BEGIN:VCALENDAR
VERSION:2.0
PRODID:-//iSustain - ECPv5.3.2.1//NONSGML v1.0//EN
CALSCALE:GREGORIAN
METHOD:PUBLISH
X-WR-CALNAME:iSustain
X-ORIGINAL-URL:https://isustain.com.au
X-WR-CALDESC:Events for iSustain
BEGIN:VTIMEZONE
TZID:Australia/Perth
BEGIN:STANDARD
TZOFFSETFROM:+0800
TZOFFSETTO:+0800
TZNAME:AWST
DTSTART:20200101T000000
END:STANDARD
END:VTIMEZONE
BEGIN:VEVENT
DTSTART;TZID=Australia/Perth:20200314T080000
DTEND;TZID=Australia/Perth:20200314T130000
DTSTAMP:20210224T020659
CREATED:20200307T115315Z
LAST-MODIFIED:20200307T115315Z
UID:303-1584172800-1584190800@isustain.com.au
SUMMARY:Living green @ Bayswater Grower's Market
DESCRIPTION:The bayswater growers market has kindly invited iSustain to do a public Hempcrete demonstration at their next event.\nWe will be conducting a short demonstration where you can try hand casting your own hempcrete sample.\nvisit www.instagram/bayswatergrowersmarket for more information.
URL:https://isustain.com.au/event/living-green-bayswater-growers-market/
LOCATION:Bert Wright Park\, King william street Bayswater\, King william street\, bayswater\, WA\, 6053\, Australia
END:VEVENT
END:VCALENDAR