BEGIN:VCALENDAR
VERSION:2.0
PRODID:-//iSustain - ECPv5.3.2.1//NONSGML v1.0//EN
CALSCALE:GREGORIAN
METHOD:PUBLISH
X-WR-CALNAME:iSustain
X-ORIGINAL-URL:https://isustain.com.au
X-WR-CALDESC:Events for iSustain
BEGIN:VTIMEZONE
TZID:Australia/Perth
BEGIN:STANDARD
TZOFFSETFROM:+0800
TZOFFSETTO:+0800
TZNAME:AWST
DTSTART:20190101T000000
END:STANDARD
END:VTIMEZONE
BEGIN:VEVENT
DTSTART;TZID=Australia/Perth:20191128T090000
DTEND;TZID=Australia/Perth:20191201T170000
DTSTAMP:20210224T020552
CREATED:20191025T043226Z
LAST-MODIFIED:20191126T014905Z
UID:134-1574931600-1575219600@isustain.com.au
SUMMARY:Live Portable Hemp Space Installation
DESCRIPTION:It is with great pleasure that we announce the venue to our #hempcrete installation. \nThis event will show you an exclusive and innovative project never attempted before in #australia\nPut it in your diary as you won’t want to miss it!
URL:https://isustain.com.au/event/live-portable-hemp-space-installation/
LOCATION:9 Claude Street\,\, Burswood\, Western Australia\, 6100\, Australia
ATTACH;FMTTYPE=image/png:https://isustain.com.au/wp-content/uploads/2019/10/Portable-Hemp-Spaces-Logo.png
ORGANIZER;CN="Cameron":MAILTO:admin@isustain.com.au
END:VEVENT
END:VCALENDAR