BEGIN:VCALENDAR
VERSION:2.0
PRODID:-//iSustain - ECPv5.3.2.1//NONSGML v1.0//EN
CALSCALE:GREGORIAN
METHOD:PUBLISH
X-WR-CALNAME:iSustain
X-ORIGINAL-URL:https://isustain.com.au
X-WR-CALDESC:Events for iSustain
BEGIN:VTIMEZONE
TZID:Australia/Perth
BEGIN:STANDARD
TZOFFSETFROM:+0800
TZOFFSETTO:+0800
TZNAME:AWST
DTSTART:20190101T000000
END:STANDARD
END:VTIMEZONE
BEGIN:VEVENT
DTSTART;TZID=Australia/Perth:20190817T080000
DTEND;TZID=Australia/Perth:20190817T120000
DTSTAMP:20210224T021220
CREATED:20191025T055631Z
LAST-MODIFIED:20191025T055631Z
UID:153-1566028800-1566043200@isustain.com.au
SUMMARY:iSustain @ Perth City Farmers - August
DESCRIPTION:iSustain will be attending another Farmers market \nWe are proud to introduce @ecotectarchitects to our growing community.\ncome and see what other businesses and products can help you have a healthier and more sustainable home
URL:https://isustain.com.au/event/isustain-perth-city-farmers-august/
LOCATION:Perth City Farm\, 1 City Farm Place\, East Perth\, Western Australia\, 6004\, Australia
ATTACH;FMTTYPE=image/jpeg:https://isustain.com.au/wp-content/uploads/2019/10/Indoor-Market.jpg
END:VEVENT
END:VCALENDAR