BEGIN:VCALENDAR
VERSION:2.0
PRODID:-//iSustain - ECPv5.3.2.1//NONSGML v1.0//EN
CALSCALE:GREGORIAN
METHOD:PUBLISH
X-WR-CALNAME:iSustain
X-ORIGINAL-URL:https://isustain.com.au
X-WR-CALDESC:Events for iSustain
BEGIN:VTIMEZONE
TZID:Australia/Perth
BEGIN:STANDARD
TZOFFSETFROM:+0800
TZOFFSETTO:+0800
TZNAME:AWST
DTSTART:20190101T000000
END:STANDARD
END:VTIMEZONE
BEGIN:VEVENT
DTSTART;TZID=Australia/Perth:20190818T080000
DTEND;TZID=Australia/Perth:20190818T120000
DTSTAMP:20210224T021238
CREATED:20191025T054924Z
LAST-MODIFIED:20191025T054937Z
UID:149-1566115200-1566129600@isustain.com.au
SUMMARY:iSustain @ Kalamunda Farmers Market - August
DESCRIPTION:@isustainperth is doing a double header this week as we head out to kalamunda FM \nWe will be offering all the information you need to build or renovate your home in an energy efficient\, organic and sustainable way \nWe are introducing @garry_baverstock #ecotecarchitects who provide design solutions to sustainable home concepts and amazing architecture. \nCome by and experience Perth’s great farmers market community as we support local business and enjoy local produce
URL:https://isustain.com.au/event/isustain-kalamunda-farmers-market-august/
LOCATION:Kalamunda Farmers Market\, Nestobrae Lane\, Kalamunda\, Western Australia\, 6076\, Australia
ATTACH;FMTTYPE=image/jpeg:https://isustain.com.au/wp-content/uploads/2019/10/Vegtable-Market.jpg
END:VEVENT
END:VCALENDAR