BEGIN:VCALENDAR
VERSION:2.0
PRODID:-//iSustain - ECPv5.3.2.1//NONSGML v1.0//EN
CALSCALE:GREGORIAN
METHOD:PUBLISH
X-WR-CALNAME:iSustain
X-ORIGINAL-URL:https://isustain.com.au
X-WR-CALDESC:Events for iSustain
BEGIN:VTIMEZONE
TZID:Australia/Perth
BEGIN:STANDARD
TZOFFSETFROM:+0800
TZOFFSETTO:+0800
TZNAME:AWST
DTSTART:20200101T000000
END:STANDARD
END:VTIMEZONE
BEGIN:VEVENT
DTSTART;TZID=Australia/Perth:20200125T080000
DTEND;TZID=Australia/Perth:20200125T113000
DTSTAMP:20210224T020620
CREATED:20200117T234433Z
LAST-MODIFIED:20200117T234433Z
UID:247-1579939200-1579951800@isustain.com.au
SUMMARY:introduction to Hempcrete
DESCRIPTION:A simplistic way of learning about hempcrete and hemp building products. Non-pushy and friendly conversation. Share with us YOUR story. We hope to see you there.
URL:https://isustain.com.au/event/introduction-to-hempcrete/
LOCATION:Kyilla Community Farmers’ Market\, Kyilla Park\, Clieveden Street & Union Street\, North Perth\, Western Australia\, 6006\, Australia
END:VEVENT
END:VCALENDAR