BEGIN:VCALENDAR
VERSION:2.0
PRODID:-//iSustain - ECPv5.3.2.1//NONSGML v1.0//EN
CALSCALE:GREGORIAN
METHOD:PUBLISH
X-WR-CALNAME:iSustain
X-ORIGINAL-URL:https://isustain.com.au
X-WR-CALDESC:Events for iSustain
BEGIN:VTIMEZONE
TZID:Australia/Perth
BEGIN:STANDARD
TZOFFSETFROM:+0800
TZOFFSETTO:+0800
TZNAME:AWST
DTSTART:20200101T000000
END:STANDARD
END:VTIMEZONE
BEGIN:VEVENT
DTSTART;TZID=Australia/Perth:20200327T080000
DTEND;TZID=Australia/Perth:20200529T170000
DTSTAMP:20210224T020034
CREATED:20200113T075734Z
LAST-MODIFIED:20200113T075734Z
UID:218-1585296000-1590771600@isustain.com.au
SUMMARY:HIA Perth Home Show
DESCRIPTION:Featuring as Portable Hemp Spaces and iSustain\, we are proud to be a part of this great 3 day event. \nLocated in the centre of Perth; come and see all of the various sustainable building methods and materials used in the market today. We will be located close by the “Eco Town” with an Australian first portable hemp office within the town. \nFor booking information please visit www.perthhomeshow.com.au
URL:https://isustain.com.au/event/hia-perth-home-show/
LOCATION:Perth convention centre\, 21 Mounts Bay Road\, perth\, WA\, 6000\, Australia
END:VEVENT
END:VCALENDAR