BEGIN:VCALENDAR
VERSION:2.0
PRODID:-//iSustain - ECPv5.3.2.1//NONSGML v1.0//EN
CALSCALE:GREGORIAN
METHOD:PUBLISH
X-WR-CALNAME:iSustain
X-ORIGINAL-URL:https://isustain.com.au
X-WR-CALDESC:Events for iSustain
BEGIN:VTIMEZONE
TZID:Australia/Perth
BEGIN:STANDARD
TZOFFSETFROM:+0800
TZOFFSETTO:+0800
TZNAME:AWST
DTSTART:20200101T000000
END:STANDARD
END:VTIMEZONE
BEGIN:VEVENT
DTSTART;TZID=Australia/Perth:20201107T090000
DTEND;TZID=Australia/Perth:20201107T170000
DTSTAMP:20210224T015958
CREATED:20201013T103709Z
LAST-MODIFIED:20201013T103908Z
UID:436-1604739600-1604768400@isustain.com.au
SUMMARY:Hempcrete installer Workshop
DESCRIPTION:This workshop will comprehensively provide you with the information and skills to achieve your own Hempcrete projects.\nLead by Cameron\, you will learn the ins and the outs of Hempcrete installation to a modern day home. \nYou will be guided and exposed to the history of Hempcrete\, the methods that are used and the benefits it provides throughout the world. This Workshop is a must for those who wish to develope their partitions further. The Workshop is for 1 day so is very achievable for those with busy lifestyles.
URL:https://isustain.com.au/event/hempcrete-installer-workshop/
LOCATION:9 Claude street Burswood\, 9 Claude street\, Burswood\, WA\, 6100\, Australia
END:VEVENT
END:VCALENDAR