BEGIN:VCALENDAR
VERSION:2.0
PRODID:-//iSustain - ECPv5.3.2.1//NONSGML v1.0//EN
CALSCALE:GREGORIAN
METHOD:PUBLISH
X-WR-CALNAME:iSustain
X-ORIGINAL-URL:https://isustain.com.au
X-WR-CALDESC:Events for iSustain
BEGIN:VTIMEZONE
TZID:Australia/Perth
BEGIN:STANDARD
TZOFFSETFROM:+0800
TZOFFSETTO:+0800
TZNAME:AWST
DTSTART:20200101T000000
END:STANDARD
END:VTIMEZONE
BEGIN:VEVENT
DTSTART;TZID=Australia/Perth:20200225T080000
DTEND;TZID=Australia/Perth:20200228T170000
DTSTAMP:20210224T020644
CREATED:20191215T235337Z
LAST-MODIFIED:20191215T235337Z
UID:204-1582617600-1582909200@isustain.com.au
SUMMARY:Australian Industrial Hemp Conference
DESCRIPTION:
URL:https://isustain.com.au/event/australian-industrial-hemp-conference/
LOCATION:Esplanade Hotel Fremantle\, 46-54 Marine terrace & Essex street\, fremantle\, WA\, 6160\, Australia
END:VEVENT
END:VCALENDAR